Workbook
Name TYPE: Donnees!$A$4:$A$39

Sheet informations-collectivite
A2: Informations à remplir par le service de la taxe de séjour | B2: Nom de la collectivité | D2: CCDSP
B4: URL de la page d'accueil de la plateforme | D4: https://dromesudprovence.taxesejour.fr
B6: Adresse pied de page
B10: Tarif de la taxe de séjour avec taxe(s) additionnelle(s) si votre cette/ces taxe(s) est/sont instaurée(s) sur votre territoir
B11: Palaces | D11: 5.06
B12: Hôtels de tourisme 5 étoiles, résidences de tourisme 5 étoiles, meublés de tourisme 5 étoiles | D12: 3.63
B13: Hôtels de tourisme 4 étoiles, résidences de tourisme 4 étoiles, meublés de tourisme 4 étoiles | D13: 2.75
B14: Hôtels de tourisme 3 étoiles, résidences de tourisme 3 étoiles, meublés de tourisme 3 étoiles | D14: 1.76
B15: Hôtels de tourisme 2 étoiles, résidences de tourisme 2 étoiles, meublés de tourisme 2 étoiles, villages de vacances 4 et 5 étoiles | D15: 1.1
B16: Hôtels de tourisme 1 étoile, résidences de tourisme 1 étoile, meublés de tourisme 1 étoile, villages de vacances 1,2 et 3 étoiles, auberges collectives, chambres d’hôtes | D16: 0.88
B17: Terrains de camping et terrains de caravanage classés en 3,4 et 5 étoiles et tout autre terrain d’hébergement de plein air de caractéristiques équivalentes, emplacements dans des aires de camping-cars et des parcs de stationnement touristiques par tranche de 24 heures | D17: 0.66 | H17: Année de collecte
B18: Terrains de camping et terrains de caravanage classés en 1 et 2 étoiles et tout autre terrain d’hébergement de plein air de caractéristiques équivalentes, ports de plaisance | D18: 0.22 | H18: 2024

Sheet Donnees
A3: Nature de l'hébergement | B3: Tarifs en € / nuitée / personne
A4: Camping non classé, 1 et 2 étoiles | B4: ='informations-collectivite'!D18 -> 0.22
A5: Camping 3, 4 et 5 étoiles | B5: ='informations-collectivite'!D17 -> 0.66
A7: Aire de camping car | B7: ='informations-collectivite'!D17 -> 0.66
A9: Chambres d'hôtes | B9: ='informations-collectivite'!D16 -> 0.88
A11: Auberges collectives | B11: ='informations-collectivite'!D16 -> 0.88
A13: Meublé de tourisme 1 étoile | B13: ='informations-collectivite'!D16 -> 0.88
A14: Meublé de tourisme 2 étoiles | B14: ='informations-collectivite'!D15 -> 1.1
A15: Meublé de tourisme 3 étoiles | B15: ='informations-collectivite'!D14 -> 1.76
A16: Meublé de tourisme 4 étoiles | B16: ='informations-collectivite'!D13 -> 2.75
A17: Meublé de tourisme 5 étoiles | B17: ='informations-collectivite'!D12 -> 3.63
A19: Sélectionnez la nature et la catégorie dans la liste de ce menu déroulant
A21: Hôtel 1 étoile | B21: ='informations-collectivite'!D16 -> 0.88
A22: Hôtel 2 étoiles | B22: ='informations-collectivite'!D15 -> 1.1
A23: Hôtel 3 étoiles | B23: ='informations-collectivite'!D14 -> 1.76
A24: Hôtel 4 étoiles | B24: ='informations-collectivite'!D13 -> 2.75
A25: Hôtel 5 étoiles | B25: ='informations-collectivite'!D12 -> 3.63
A26: Palace | B26: ='informations-collectivite'!D11 -> 5.06
A28: Résidence de tourisme 1 étoile | B28: ='informations-collectivite'!D16 -> 0.88
A29: Résidence de tourisme 2 étoiles | B29: ='informations-collectivite'!D15 -> 1.1
A30: Résidence de tourisme 3 étoiles | B30: ='informations-collectivite'!D14 -> 1.76
A31: Résidence de tourisme 4 étoiles | B31: ='informations-collectivite'!D13 -> 2.75
A32: Résidence de tourisme 5 étoiles | B32: ='informations-collectivite'!D12 -> 3.63
A34: Village de vacances 1, 2 et 3 étoiles | B34: ='informations-collectivite'!D16 -> 0.88
A35: Village de vacances 4 et 5 étoiles | B35: ='informations-collectivite'!D15 -> 1.1
B38: 2020
A42: Menu déroulant
A43: Janvier
A44: Février
A45: Mars
A46: Avril
A47: Mai
A48: Juin
A49: Juillet
A50: Août
A51: Septembre
A52: Octobre
A53: Novembre
A54: Décembre
A63: ='registre du logeur'!G26*'registre du logeur'!E26 -> 0
A64: ='registre du logeur'!G27*'registre du logeur'!E27 -> 0
A65: ='registre du logeur'!G28*'registre du logeur'!E28 -> 0
A66: ='registre du logeur'!G29*'registre du logeur'!E29 -> 0
A67: ='registre du logeur'!G30*'registre du logeur'!E30 -> 0
A68: ='registre du logeur'!G31*'registre du logeur'!E31 -> 0
A69: ='registre du logeur'!G32*'registre du logeur'!E32 -> 0
A70: ='registre du logeur'!G33*'registre du logeur'!E33 -> 0
A71: ='registre du logeur'!G34*'registre du logeur'!E34 -> 0
A72: ='registre du logeur'!G35*'registre du logeur'!E35 -> 0
A73: ='registre du logeur'!G36*'registre du logeur'!E36 -> 0
A74: ='registre du logeur'!G37*'registre du logeur'!E37 -> 0
... A92: ='registre du logeur'!G55*'registre du logeur'!E55 -> 0
A93: ='registre du logeur'!G75*'registre du logeur'!E75 -> 0
A94: ='registre du logeur'!G76*'registre du logeur'!E76 -> 0

Sheet registre du logeur
E1: REGISTRE DES SÉJOURS
E2: =CONCATENATE('informations-collectivite'!D2) -> CCDSP
E3: DECLARATION MENSUELLE DE TAXE DE SEJOUR | I3: Pour les hébergements à | K3: TARIF DE LA TAXE FIXE
E4: Mois : | F4: Menu déroulant | H4: Année : | I4: ='informations-collectivite'!H18 -> 2024
E5: Ce registre concerne les hébergements classés (en étoiles), les palaces, les chambres d’hôtes, les aires de camping-cars, les terrains de camping et de caravanage et les ports de plaisance.
C7: N'OPTEZ POUR CE REGISTRE QUE SI VOUS NE POUVEZ PAS UTILISER RÉGULIÈREMENT LA PLATEFORME WEB
C8: Le REGISTRE DU LOGEUR est un état comptable conforme à I'article R2333-51, sa tenue est une OBLIGATION DE LA LOI.
C9: Préférez LE REGISTRE EN LIGNE, en vous connectant sur | I9: ='informations-collectivite'!D4 -> https://dromesudprovence.taxesejour.fr
C10: Vous devrez tous les mois, déclarer le nombre de nuitées effectuées dans votre établissement le mois précédent.
C11: Si vous utilisez ce registre, effectuez votre télédéclaration mensuelle en joignant ce fichier depuis votre compte grâce à notre service de télé-déclaration et de reversement de la taxe de séjour
C12: ='informations-collectivite'!D4 -> https://dromesudprovence.taxesejour.fr
C14: Etablissement : | H14: Nom du propriétaire :
C15: Adresse de l'établissement :
C16: Adresse du propriétaire :
C17: Capacité totale d'accueil : | H17: Nb de chambres :
C18: Numéro d'enregistrement :
C20: Nature et Classement de l'hébergement | F20: Palace | I20: Montant TS : | L20: =VLOOKUP(F20,Donnees!A4:B35,2,FALSE) -> 5.06
F22: Occupants
F23: Assujettis non exonérés
G24: Exonérés
C25: Date d'arrivée | D25: date de départ | E25: Nombre de nuits (Durée du séjour) | F25: Nombre de personnes assujettis* non exonérés | G25: Nombre de personnes mineures | H25: Nombre de titulaires d’un contrat de travail saisonnier employés dans la commune | I25: Nombre de personnes bénéficiant d’un hébergement d’urgence | J25: Nombre de personnes occupant des locaux dont le loyer est inférieur à un tarif voté par la collectivité** | K25: Nombre de personnes non assujetties* | L25: Montant taxe perçue
L26: =(F26*E26)*$L$20 -> 0
L27: =(F27*E27)*$L$20 -> 0
L28: =(F28*E28)*$L$20 -> 0
L29: =(F29*E29)*$L$20 -> 0
L30: =(F30*E30)*$L$20 -> 0
L31: =(F31*E31)*$L$20 -> 0
L32: =(F32*E32)*$L$20 -> 0
L33: =(F33*E33)*$L$20 -> 0
L34: =(F34*E34)*$L$20 -> 0
L35: =(F35*E35)*$L$20 -> 0
L36: =(F36*E36)*$L$20 -> 0
L37: =(F37*E37)*$L$20 -> 0
... L76: =(F76*E76)*$L$20 -> 0
C77: TOTAL | L77: =SUM(L26:L76) -> 0
C78: *Conformément à l'article L2333-29 du CGCT, « la taxe de séjour est établie sur les personnes assujetties qui ne sont pas domiciliées dans la commune et qui n'y possèdent pas de résidence à raison de laquelle elles sont redevables de la taxe d'hab1tat1on ». ** personnes occupant des locaux dont le loyer est inférieur à un montant déterminé par le conseil délibérant de la collectivité (exonération qui n'existe pas sur tous les territoires) | K78: Vous ne pouvez rien inscrire dans les colonnes grises; les formules de calcul étant déjà intégrées.
C80: Eléments à reporter dans votre déclaration mensuelle
F81: Déclaration de taxe de Séjour | G81: =F4 -> Menu déroulant | H81: =I4 -> 2024
E82: Nombre total de nuitées | H82: =H83+H84+H85+H86+H87+H88 -> 0
E83: Assujettis non exonérés | H83: =SUMPRODUCT(E26:E76,F26:F76) -> 0
E84: Nombre total d'exonération | F84: Mineures | H84: =SUMPRODUCT(E26:E76,G26:G76) -> 0
F85: Saisonniers | H85: =SUMPRODUCT(E26:E76,H26:H76) -> 0
F86: Hébergement d’urgence | H86: =SUMPRODUCT(E26:E76,I26:I76) -> 0
F87: Social | H87: =SUMPRODUCT(E26:E76,J26:J76) -> 0
E88: Non assujetties | H88: =SUMPRODUCT(E26:E76,K26:K76) -> 0
E89: Total montant perçu | H89: =L77 -> 0
C92: N’optez pour une déclaration papier que si vous ne pouvez pas utiliser la plateforme web. Gagnez du temps, réduisez l’utilisation du papier et supprimez les frais postaux, abaissez les frais de gestion Passez à la télédéclaration sur ordinateur, tablette ou smartphone avec :
I93: =CONCATENATE('informations-collectivite'!D4) -> https://dromesudprovence.taxesejour.fr
D96: =CONCATENATE('informations-collectivite'!D4:H4) -> https://dromesudprovence.taxesejour.fr
